BEGIN:VCALENDAR
VERSION:2.0
PRODID:-//Plone.org//NONSGML plone.app.event//EN
X-WR-TIMEZONE:Brazil/East
BEGIN:VEVENT
SUMMARY:Sessão Solene
DTSTART;TZID=Brazil/East;VALUE=DATE-TIME:20231122T180000
DTEND;TZID=Brazil/East;VALUE=DATE-TIME:20231122T210000
DTSTAMP;VALUE=DATE-TIME:20260420T191614Z
UID:000dde627ae5456a878d7268d78a4a61@www.aracruz.es.leg.br
CREATED;VALUE=DATE-TIME:20231103T195934Z
DESCRIPTION:Homenagem ao Dia da Consciência Negra.\n\n\nRequerente: Verea
 dora Adriana Guimarães Machado.
LAST-MODIFIED;VALUE=DATE-TIME:20231109T211413Z
LOCATION:Plenário Hélio Santana de Araújo
URL:https://www.aracruz.es.leg.br/institucional/eventos/sessao-solene-8
END:VEVENT
BEGIN:VTIMEZONE
TZID:Brazil/East
X-LIC-LOCATION:Brazil/East
BEGIN:DAYLIGHT
DTSTART;VALUE=DATE-TIME:20231015T010000
TZNAME:BRST
TZOFFSETFROM:-0300
TZOFFSETTO:-0200
END:DAYLIGHT
END:VTIMEZONE
END:VCALENDAR
