BEGIN:VCALENDAR
VERSION:2.0
PRODID:-//Plone.org//NONSGML plone.app.event//EN
X-WR-TIMEZONE:Brazil/East
BEGIN:VEVENT
SUMMARY:Sessão Solene
DTSTART;TZID=Brazil/East;VALUE=DATE-TIME:20241205T180000
DTEND;TZID=Brazil/East;VALUE=DATE-TIME:20241205T210000
DTSTAMP;VALUE=DATE-TIME:20260419T100355Z
UID:1624417e68c84ba49f45fa5a839c4e6f@www.aracruz.es.leg.br
CREATED;VALUE=DATE-TIME:20241108T184329Z
DESCRIPTION:Sessão Solene para entrega de Títulos e Prêmios de Honraria
 s.
LAST-MODIFIED;VALUE=DATE-TIME:20241108T184333Z
URL:https://www.aracruz.es.leg.br/institucional/eventos/sessao-solene-18
END:VEVENT
BEGIN:VTIMEZONE
TZID:Brazil/East
X-LIC-LOCATION:Brazil/East
BEGIN:DAYLIGHT
DTSTART;VALUE=DATE-TIME:20241020T010000
TZNAME:BRST
TZOFFSETFROM:-0300
TZOFFSETTO:-0200
END:DAYLIGHT
END:VTIMEZONE
END:VCALENDAR
