BEGIN:VCALENDAR
VERSION:2.0
PRODID:-//Plone.org//NONSGML plone.app.event//EN
X-WR-TIMEZONE:Brazil/East
BEGIN:VEVENT
SUMMARY:Sessão Solene
DTSTART;TZID=Brazil/East;VALUE=DATE-TIME:20241203T180000
DTEND;TZID=Brazil/East;VALUE=DATE-TIME:20241203T210000
DTSTAMP;VALUE=DATE-TIME:20260419T162512Z
UID:525b540ebaa84c30b188b7fe952ff558@www.aracruz.es.leg.br
CREATED;VALUE=DATE-TIME:20241108T184223Z
DESCRIPTION:Sessão Solene para entrega de Títulos e Prêmios de Honraria
 s.
LAST-MODIFIED;VALUE=DATE-TIME:20241108T184229Z
URL:https://www.aracruz.es.leg.br/institucional/eventos/sessao-solene-17
END:VEVENT
BEGIN:VTIMEZONE
TZID:Brazil/East
X-LIC-LOCATION:Brazil/East
BEGIN:DAYLIGHT
DTSTART;VALUE=DATE-TIME:20241020T010000
TZNAME:BRST
TZOFFSETFROM:-0300
TZOFFSETTO:-0200
END:DAYLIGHT
END:VTIMEZONE
END:VCALENDAR
