BEGIN:VCALENDAR
VERSION:2.0
PRODID:-//Plone.org//NONSGML plone.app.event//EN
X-WR-TIMEZONE:Brazil/East
BEGIN:VEVENT
SUMMARY:Evento externo
DTSTART;TZID=Brazil/East;VALUE=DATE-TIME:20231212T173000
DTEND;TZID=Brazil/East;VALUE=DATE-TIME:20231212T213000
DTSTAMP;VALUE=DATE-TIME:20260421T193328Z
UID:5be5d5bb135d45288bd7e20933fa1d63@www.aracruz.es.leg.br
CREATED;VALUE=DATE-TIME:20231114T134802Z
DESCRIPTION:Formatura do Ensino Médio – TI da Escola Monsenhor Guilherm
 e Schmitz.\n
LAST-MODIFIED;VALUE=DATE-TIME:20231114T134811Z
URL:https://www.aracruz.es.leg.br/institucional/eventos/evento-externo
END:VEVENT
BEGIN:VTIMEZONE
TZID:Brazil/East
X-LIC-LOCATION:Brazil/East
BEGIN:DAYLIGHT
DTSTART;VALUE=DATE-TIME:20231015T010000
TZNAME:BRST
TZOFFSETFROM:-0300
TZOFFSETTO:-0200
END:DAYLIGHT
END:VTIMEZONE
END:VCALENDAR
