BEGIN:VCALENDAR
VERSION:2.0
PRODID:-//Plone.org//NONSGML plone.app.event//EN
X-WR-TIMEZONE:Brazil/East
BEGIN:VEVENT
SUMMARY:Evento Externo
DTSTART;TZID=Brazil/East;VALUE=DATE-TIME:20241030T180000
DTEND;TZID=Brazil/East;VALUE=DATE-TIME:20241030T210000
DTSTAMP;VALUE=DATE-TIME:20260419T104127Z
UID:31a981a4637548c4bec695dec73382df@www.aracruz.es.leg.br
CREATED;VALUE=DATE-TIME:20240930T163114Z
DESCRIPTION:Assembleia Geral de Fundação de uma cooperativa escolar - Se
 med.
LAST-MODIFIED;VALUE=DATE-TIME:20240930T163131Z
URL:https://www.aracruz.es.leg.br/institucional/eventos/evento-externo-20
END:VEVENT
BEGIN:VTIMEZONE
TZID:Brazil/East
X-LIC-LOCATION:Brazil/East
BEGIN:DAYLIGHT
DTSTART;VALUE=DATE-TIME:20241020T010000
TZNAME:BRST
TZOFFSETFROM:-0300
TZOFFSETTO:-0200
END:DAYLIGHT
END:VTIMEZONE
END:VCALENDAR
