BEGIN:VCALENDAR
VERSION:2.0
PRODID:-//Plone.org//NONSGML plone.app.event//EN
X-WR-TIMEZONE:Brazil/East
BEGIN:VEVENT
SUMMARY:Evento Externo
DTSTART;TZID=Brazil/East;VALUE=DATE-TIME:20240314T160000
DTEND;TZID=Brazil/East;VALUE=DATE-TIME:20240314T170000
DTSTAMP;VALUE=DATE-TIME:20260420T072413Z
UID:43b11508b7fb41eaa8c15eb46bd22f9c@www.aracruz.es.leg.br
CREATED;VALUE=DATE-TIME:20240315T152247Z
DESCRIPTION:Entidade: Sindicato dos Servidores Públicos de Aracruz (Sisma
 ).\n\nEvento: Assembleias com o Magistério da rede municipal e com os ser
 vidores administrativos sobre o Plano de Cargos e Carreira da Prefeitura M
 unicipal de Aracruz.\n\nProcesso: 319/2024.
LAST-MODIFIED;VALUE=DATE-TIME:20240315T152319Z
LOCATION:Plenário Hélio Santana de Araújo
URL:https://www.aracruz.es.leg.br/institucional/eventos/evento-externo-11
END:VEVENT
BEGIN:VTIMEZONE
TZID:Brazil/East
X-LIC-LOCATION:Brazil/East
BEGIN:STANDARD
DTSTART;VALUE=DATE-TIME:20240217T230000
TZNAME:BRT
TZOFFSETFROM:-0200
TZOFFSETTO:-0300
END:STANDARD
END:VTIMEZONE
END:VCALENDAR
