BEGIN:VCALENDAR
VERSION:2.0
PRODID:-//Plone.org//NONSGML plone.app.event//EN
X-WR-TIMEZONE:Brazil/East
BEGIN:VEVENT
SUMMARY:3ª Sessão Ordinária
DTSTART;TZID=Brazil/East;VALUE=DATE-TIME:20210301T180000
DTEND;TZID=Brazil/East;VALUE=DATE-TIME:20210301T190000
DTSTAMP;VALUE=DATE-TIME:20260422T020233Z
UID:2b1d269be601419a9b0396c08bdb74e8@www.aracruz.es.leg.br
CREATED;VALUE=DATE-TIME:20210205T121237Z
DESCRIPTION:Nos termos do artigo 64 do Regimento Interno\, as Sessões ord
 inárias terão início às 18:00 horas\, com duração de 03 (três) hora
 s\, às segundas-feiras. \n\nArt. 4 - § 1º. Independem de convocação a
 s reuniões marcadas para as datas fixadas neste artigo\, que serão trans
 feridas\, automaticamente\, para o primeiro dia útil subsequente quando r
 ecair em sábado\, domingo ou feriado.
LAST-MODIFIED;VALUE=DATE-TIME:20210218T190323Z
LOCATION:Plenário Hélio Santana de Araújo
URL:https://www.aracruz.es.leg.br/institucional/eventos/3a-sessao-ordinari
 a
END:VEVENT
BEGIN:VTIMEZONE
TZID:Brazil/East
X-LIC-LOCATION:Brazil/East
BEGIN:STANDARD
DTSTART;VALUE=DATE-TIME:20210220T230000
TZNAME:BRT
TZOFFSETFROM:-0200
TZOFFSETTO:-0300
END:STANDARD
END:VTIMEZONE
END:VCALENDAR
